BEGIN:VCALENDAR
VERSION:2.0
PRODID:-//wp-events-plugin.com//6.6.1//EN
BEGIN:VEVENT
UID:102@zentrumspreewaldlausitz.de
DTSTART:20151116T180000Z
DTEND:20151116T190000Z
DTSTAMP:20150929T195941Z
URL:https://zentrumspreewaldlausitz.de/events/rehasport-werchow-2015-11-16
 /
SUMMARY:Rehasport Werchow
DESCRIPTION:Veranstaltung findet im Sommer an der Stehschänke in Werchow s
 tatt.\n\nIm Winter findet die Veranstaltung im Sportraum im Gemeinderaum i
 n Werchow statt.
END:VEVENT
END:VCALENDAR